BEGIN:VCALENDAR
VERSION:2.0
PRODID:-//7 Lakes Alliance - ECPv6.15.20//NONSGML v1.0//EN
CALSCALE:GREGORIAN
METHOD:PUBLISH
X-ORIGINAL-URL:https://7lakesalliance.org
X-WR-CALDESC:Events for 7 Lakes Alliance
REFRESH-INTERVAL;VALUE=DURATION:PT1H
X-Robots-Tag:noindex
X-PUBLISHED-TTL:PT1H
BEGIN:VTIMEZONE
TZID:America/New_York
BEGIN:DAYLIGHT
TZOFFSETFROM:-0500
TZOFFSETTO:-0400
TZNAME:EDT
DTSTART:20240310T070000
END:DAYLIGHT
BEGIN:STANDARD
TZOFFSETFROM:-0400
TZOFFSETTO:-0500
TZNAME:EST
DTSTART:20241103T060000
END:STANDARD
BEGIN:DAYLIGHT
TZOFFSETFROM:-0500
TZOFFSETTO:-0400
TZNAME:EDT
DTSTART:20250309T070000
END:DAYLIGHT
BEGIN:STANDARD
TZOFFSETFROM:-0400
TZOFFSETTO:-0500
TZNAME:EST
DTSTART:20251102T060000
END:STANDARD
BEGIN:DAYLIGHT
TZOFFSETFROM:-0500
TZOFFSETTO:-0400
TZNAME:EDT
DTSTART:20260308T070000
END:DAYLIGHT
BEGIN:STANDARD
TZOFFSETFROM:-0400
TZOFFSETTO:-0500
TZNAME:EST
DTSTART:20261101T060000
END:STANDARD
END:VTIMEZONE
BEGIN:VEVENT
DTSTART;TZID=America/New_York:20251208T120000
DTEND;TZID=America/New_York:20251208T130000
DTSTAMP:20260421T074816
CREATED:20251125T143308Z
LAST-MODIFIED:20251205T190913Z
UID:10000203-1765195200-1765198800@7lakesalliance.org
SUMMARY:Septic System Project: Initial Findings
DESCRIPTION:Join 7 Lakes Alliance at this FREE Lunch & Learn event to learn updates related to the 2025 Septic System Project. \n \n\nAbout the Event\nAlex Debo\, an intern from Maine Geospatial institute (MGI) will share updates on the septic system modeling project including both technical details and preliminary results. He will also give insight on remaining project deliverables for Great Pond and Long Pond. There will be time for Q & A at the end of the presentation. Registration is required as there is limited seating. \n\nWhat to Bring\nParticipants are encouraged to bring a lunch or snacks to enjoy during the presentation. \n  \nVirtual Meeting Option:\nJoin Zoom Meeting\nhttps://us02web.zoom.us/j/86817298143?pwd=2tzwpPFvCDtjkgbSjr2Q059VcgKq79.1 \nMeeting ID: 868 1729 8143\nPasscode: 984135 \n  \nIf you have any questions about this event please email our Erosion Control Project Coordinator Stuart Cole at stuart.cole@7lakesalliance.org. \n  \nFunding for this internship is made possible in partnership with Belgrade Lakes Association.
URL:https://7lakesalliance.org/event/septic-system-project-initial-findings/
CATEGORIES:Lunch & Learn
END:VEVENT
END:VCALENDAR